BEGIN:VCALENDAR
VERSION:2.0
PRODID:Imitheme.com 
BEGIN:VEVENT
UID:20260423T135826383066821
DTSTAMP;TZID=UTC:20260423T135826
DTSTART;TZID=UTC:20260423T135826
DTEND;TZID=UTC:20260423T135826
SUMMARY:Life Empowerment Service
LOCATION:
DESCRIPTION:Join us Every Thursday for Life Empowerment Service\, this is a weekly revelational and prayer encounter service for all-round empowerment. Connect with In-depth teaching of God\'s word\, revelational and strategic prayers\, prophetic declarations and testimonies as you join us Every Thursday @ THE EMPOWERMENT CENTER. Time\: 7\:00pm -8\:30pm. &nbsp\;
END:VEVENT
END:VCALENDAR
