BEGIN:VCALENDAR
VERSION:2.0
PRODID:Imitheme.com 
BEGIN:VEVENT
UID:20260423T1354351263757451
DTSTAMP;TZID=UTC:20260423T135435
DTSTART;TZID=UTC:20260423T135435
DTEND;TZID=UTC:20260423T135435
SUMMARY:Sunday Jubilation Service
LOCATION:
DESCRIPTION:Connect with Grace and glory this Sunday as you attend our Jubilation service.
END:VEVENT
END:VCALENDAR
